BEGIN:VCALENDAR
VERSION:2.0
PRODID:-//Northallerton Male Voice Choir - ECPv6.12.0.1//NONSGML v1.0//EN
CALSCALE:GREGORIAN
METHOD:PUBLISH
X-WR-CALNAME:Northallerton Male Voice Choir
X-ORIGINAL-URL:https://northallertonmalevoicechoir.co.uk
X-WR-CALDESC:Events for Northallerton Male Voice Choir
REFRESH-INTERVAL;VALUE=DURATION:PT1H
X-Robots-Tag:noindex
X-PUBLISHED-TTL:PT1H
BEGIN:VTIMEZONE
TZID:UTC
BEGIN:STANDARD
TZOFFSETFROM:+0000
TZOFFSETTO:+0000
TZNAME:UTC
DTSTART:20250101T000000
END:STANDARD
END:VTIMEZONE
BEGIN:VEVENT
DTSTART;TZID=UTC:20260606T193000
DTEND;TZID=UTC:20260606T193000
DTSTAMP:20260420T015329
CREATED:20250913T163424Z
LAST-MODIFIED:20250913T163424Z
UID:2557-1780774200-1780774200@northallertonmalevoicechoir.co.uk
SUMMARY:Northallerton Forum\,DL6 1LP
DESCRIPTION:Click on heading for further information
URL:https://northallertonmalevoicechoir.co.uk/event/northallerton-forumdl6-1lp/
ORGANIZER;CN="Brian Philips":MAILTO:bp10ann@gmai.com
END:VEVENT
BEGIN:VEVENT
DTSTART;TZID=UTC:20251018T193000
DTEND;TZID=UTC:20251018T193000
DTSTAMP:20260420T015329
CREATED:20250828T181854Z
LAST-MODIFIED:20250828T181907Z
UID:2489-1760815800-1760815800@northallertonmalevoicechoir.co.uk
SUMMARY:St John's Church\, Kirkby Wiske\, Thirsk\, YO7 4ER
DESCRIPTION:Click on heading for further information
URL:https://northallertonmalevoicechoir.co.uk/event/st-johns-church-kirkby-wiske-thirsk-yo7-4er/
ORGANIZER;CN="Derek Sharpe":MAILTO:dereksharpe150@gmil.com
END:VEVENT
BEGIN:VEVENT
DTSTART;TZID=UTC:20250927T193000
DTEND;TZID=UTC:20250927T193000
DTSTAMP:20260420T015329
CREATED:20250828T182321Z
LAST-MODIFIED:20250828T182328Z
UID:2491-1759001400-1759001400@northallertonmalevoicechoir.co.uk
SUMMARY:Northallerton Forum - 50th Anniversary Show
DESCRIPTION:
URL:https://northallertonmalevoicechoir.co.uk/event/northallerton-forum-50th-anniversary-show/
END:VEVENT
END:VCALENDAR