BEGIN:VCALENDAR
VERSION:2.0
PRODID:-//Northallerton Male Voice Choir - ECPv6.12.0.1//NONSGML v1.0//EN
CALSCALE:GREGORIAN
METHOD:PUBLISH
X-ORIGINAL-URL:https://northallertonmalevoicechoir.co.uk
X-WR-CALDESC:Events for Northallerton Male Voice Choir
REFRESH-INTERVAL;VALUE=DURATION:PT1H
X-Robots-Tag:noindex
X-PUBLISHED-TTL:PT1H
BEGIN:VTIMEZONE
TZID:UTC
BEGIN:STANDARD
TZOFFSETFROM:+0000
TZOFFSETTO:+0000
TZNAME:UTC
DTSTART:20250101T000000
END:STANDARD
END:VTIMEZONE
BEGIN:VEVENT
DTSTART;TZID=UTC:20251213T193000
DTEND;TZID=UTC:20251213T193000
DTSTAMP:20260419T134403
CREATED:20250829T103511Z
LAST-MODIFIED:20251211T112330Z
UID:2498-1765654200-1765654200@northallertonmalevoicechoir.co.uk
SUMMARY:Northallerton Forum. Christmas Concert with Guests Easington Colliery Band
DESCRIPTION:Click on the heading for further information. \nMatinee 3:00pm  –  Evening 7:30pm\n \n 
URL:https://northallertonmalevoicechoir.co.uk/event/northallerton-forum-christmas-concert-with-guests-easington-colliery-band/
ORGANIZER;CN="Brian Philips":MAILTO:bp10ann@gmai.com
END:VEVENT
END:VCALENDAR